BEGIN:VCALENDAR
VERSION:2.0
PRODID:-//3nity.com//3nity CMS//EN
BEGIN:VEVENT
SUMMARY:Council 16236 Men's Holy Hour
UID:2023-07-15-956455@www.floridakofc.org
SEQUENCE:0
STATUS:CONFIRMED
DTSTART:20230923T063000
DTEND:20230923T073000
DTSTAMP:20161222T120000
LOCATION: Incarnation Catholic Church, 1515 Edgewater Drive, Orlando, FL 32804
DESCRIPTION:To be held on the Ordinariate's observance of Ember Saturday after Holy Cross Day.
URL:http://www.floridakofc.org
END:VEVENT
END:VCALENDAR
