BEGIN:VCALENDAR
VERSION:2.0
PRODID:-//3nity.com//3nity CMS//EN
BEGIN:VEVENT
SUMMARY:Exemplificaton of Charity, Unity and Fraternity
UID:2026-07-18-1217239@www.floridakofc.org
SEQUENCE:0
STATUS:CONFIRMED
DTSTART:20260502T000000
DTEND:20260502T023000
DTSTAMP:20161222T120000
LOCATION: Saint Thomas the Apostle Church, 7040 S. Suncoast Blvd, Homosassa, FL 34446
DESCRIPTION:Exemplification of Charity, Unity, and Fraternity
URL:http://www.floridakofc.org
END:VEVENT
END:VCALENDAR
