BEGIN:VCALENDAR
VERSION:2.0
PRODID:-//3nity.com//3nity CMS//EN
BEGIN:VEVENT
SUMMARY:Council 7027 Charity Golf Tournament
UID:2026-07-18-1206070@www.floridakofc.org
SEQUENCE:0
STATUS:CONFIRMED
DTSTART:20260425T103000
DTEND:20260425T180000
DTSTAMP:20161222T120000
LOCATION: Tanglewood Golf Club, 5916 Tanglewood Drive, Milton, FL 32570
DESCRIPTION:K of C Charity Golf Tournament in Milton FL
URL:http://www.floridakofc.org
END:VEVENT
END:VCALENDAR
