BEGIN:VCALENDAR
VERSION:2.0
PRODID:-//3nity.com//3nity CMS//EN
BEGIN:VEVENT
SUMMARY:Fr, Andrew Doherty Assembly 0155 Golf Outing
UID:2025-07-17-1172711@www.floridakofc.org
SEQUENCE:0
STATUS:CONFIRMED
DTSTART:20250920T083000
DTEND:20250920T133000
DTSTAMP:20161222T120000
LOCATION: Golf Club of Jupiter, 1800 S Central Blvd, Jupiter, FL 33458
DESCRIPTION:Our Golf Outing benefits the following organizations:\nOur Lady of Florida Spiritual Center\nFr. Michael McGivney Military Chaplains Scholarship\nSE Florida Honor Flight\nSpecial Olympics Florida\nVA Volunteer Services
URL:http://www.floridakofc.org
END:VEVENT
END:VCALENDAR
