BEGIN:VCALENDAR
VERSION:2.0
PRODID:-//3nity.com//3nity CMS//EN
BEGIN:VEVENT
SUMMARY:Charity-Unity-Fraternity Exemplification Ceremony presented by Council 10850 Jacksonville
UID:2024-07-16-1111763@www.floridakofc.org
SEQUENCE:0
STATUS:CONFIRMED
DTSTART:20241205T183000
DTEND:20241205T200000
DTSTAMP:20161222T120000
LOCATION: St. Josephs Cody Enrichment Center, 4152 Loretto Road, Jacksonville, FL 32223
DESCRIPTION:Live Exemplification of Charity-Unity-Fraternity presented by Council 10850 Jacksonville.
URL:http://www.floridakofc.org
END:VEVENT
END:VCALENDAR
