BEGIN:VCALENDAR
VERSION:2.0
PRODID:-//3nity.com//3nity CMS//EN
BEGIN:VEVENT
SUMMARY:Family Of the Month  Form Due to Supreme
UID:2025-07-17-1110947@www.floridakofc.org
SEQUENCE:0
STATUS:CONFIRMED
DTSTART:20250115T000000
DTEND:20250115T010000
DTSTAMP:20161222T120000
DESCRIPTION:Family of the Month Form  #10784 due to Supreme
URL:http://www.floridakofc.org
END:VEVENT
END:VCALENDAR
